BEGIN:VCALENDAR
VERSION:2.0
PRODID:-//P&amp;G Alumni Network - ECPv6.15.20//NONSGML v1.0//EN
CALSCALE:GREGORIAN
METHOD:PUBLISH
X-ORIGINAL-URL:https://www.pgalums.com
X-WR-CALDESC:Events for P&amp;G Alumni Network
REFRESH-INTERVAL;VALUE=DURATION:PT1H
X-Robots-Tag:noindex
X-PUBLISHED-TTL:PT1H
BEGIN:VTIMEZONE
TZID:Asia/Dubai
BEGIN:STANDARD
TZOFFSETFROM:+0400
TZOFFSETTO:+0400
TZNAME:+04
DTSTART:20230101T000000
END:STANDARD
END:VTIMEZONE
BEGIN:VEVENT
DTSTART;TZID=Asia/Dubai:20240319T180000
DTEND;TZID=Asia/Dubai:20240319T210000
DTSTAMP:20260423T131925
CREATED:20240219T121250Z
LAST-MODIFIED:20240318T062103Z
UID:45398-1710871200-1710882000@www.pgalums.com
SUMMARY:UAE Chapter:  Family Iftar 2024
DESCRIPTION:Join us for an iftar to celebrate Ramadan.\nFeel free to bring your family or loved one to make it even more special.\n\nLOGISTICS \nThe iftar will be held at Al Safadi\, Umm al Sheif Road on March 19th\, 6pm. Arrive early for ease of Parking. \nTo see the location map\, please sign into your Global Portal account and scroll to the bottom of the event page. Parking available on site – first come\, first served. \n\nCONTRIBUTION\nThere are 2 options: \nOption 1 – Set-menu: Member’s pay AED195 per person for themselves & their loved one’s consumption. You would need to call the restaurant to book the set-menu. \nRestaurant phone: 600 500601 \nSet-menu link: https://drive.google.com/file/d/16yTPoHA6e2tDj9E0Ej9hTz3zyORM8HNu/view?usp=sharing \nOption 2 – Ala Carte: You can order off the regular menu and pay as per your consumption. \nPayment to be made at the time of arrival. \n\nRSVP\nRegistration is mandatory as this event is only open to P&G Alumni. \n–> Click here to save your spot \nIf you have any issues\, drop us an email on uae.chapter@pgalums.com with your full name.  \nDon’t forget to add the event to your calendar! \n\n 
URL:https://www.pgalums.com/event/dubai-live-grand-iftar-2024/
LOCATION:Al Safadi\, https://maps.app.goo.gl/NJubFCckmSk3pdJz6\, Dubai\, United Arab Emirates
CATEGORIES:Global,Homepage,UAE (Dubai)
ATTACH;FMTTYPE=image/png:https://www.pgalums.com/wp-content/uploads/2024/02/2024.03.19_Iftar.png
END:VEVENT
END:VCALENDAR