BEGIN:VCALENDAR
VERSION:2.0
PRODID:-//P&amp;G Alumni Network - ECPv6.15.20//NONSGML v1.0//EN
CALSCALE:GREGORIAN
METHOD:PUBLISH
X-WR-CALNAME:P&amp;G Alumni Network
X-ORIGINAL-URL:https://www.pgalums.com
X-WR-CALDESC:Events for P&amp;G Alumni Network
REFRESH-INTERVAL;VALUE=DURATION:PT1H
X-Robots-Tag:noindex
X-PUBLISHED-TTL:PT1H
BEGIN:VTIMEZONE
TZID:Asia/Dubai
BEGIN:STANDARD
TZOFFSETFROM:+0400
TZOFFSETTO:+0400
TZNAME:+04
DTSTART:20230101T000000
END:STANDARD
END:VTIMEZONE
BEGIN:VEVENT
DTSTART;TZID=Asia/Dubai:20240220T183000
DTEND;TZID=Asia/Dubai:20240220T210000
DTSTAMP:20260423T143947
CREATED:20240110T073039Z
LAST-MODIFIED:20240313T173729Z
UID:44968-1708453800-1708462800@www.pgalums.com
SUMMARY:UAE Chapter: Embracing Change with Courage - Fireside chat with Shereen Maalouf\, CFO @Microsoft
DESCRIPTION:A courageous catalyst who mastered being #1 advocate for herself\, making it to Microsoft’s c-suite beating imposter syndrome. Meet her Face2Face on Feb-20-2024! \nDISCUSSION POINTS\n\nGain insights into the power of adaptability and mentorship in navigating corporate restructures and cultural shifts\, and learn how to harness these tools to drive personal and professional growth.\nExplore the integration of AI in finance through the lens of a leader who embraced technological change with courage\, and learn strategies for advocating for women’s voices and achieving work-life balance in demanding roles\n\nAGENDA\n\n6.30pm Registration and networking\n7.00 Welcome and network update\n7.10 Member spotlights\n7.20 Guest speakers\n8.20 Q&A and closing\n\nCONTRIBUTION\n50 AED per person – cash only\, please bring change \nLOGISTICS \nPlease log in to see the location (it will be visible at the bottom of this page) \nPublic parking available\, first come first served \nRSVP\nRegistration is mandatory as this event is only open to P&G Alumni. \n–> Click here to save your spot \nIf you have any issues\, drop us an email on uae.chapter@pgalums.com with your full name.  \nDon’t forget to add the event to your calendar!
URL:https://www.pgalums.com/event/dubai-fireside-chat-shereen-maalouf/
LOCATION:Hult International Business School Dubai\, Hult International Business School Dubai\, First Floor\, Injaz Building\, Dubai Internet City\, Dubai\, United Arab Emirates
CATEGORIES:Global,Homepage,UAE (Dubai)
END:VEVENT
END:VCALENDAR