BEGIN:VCALENDAR
VERSION:2.0
PRODID:-//P&amp;G Alumni Network - ECPv6.15.20//NONSGML v1.0//EN
CALSCALE:GREGORIAN
METHOD:PUBLISH
X-ORIGINAL-URL:https://www.pgalums.com
X-WR-CALDESC:Events for P&amp;G Alumni Network
REFRESH-INTERVAL;VALUE=DURATION:PT1H
X-Robots-Tag:noindex
X-PUBLISHED-TTL:PT1H
BEGIN:VTIMEZONE
TZID:America/New_York
BEGIN:DAYLIGHT
TZOFFSETFROM:-0500
TZOFFSETTO:-0400
TZNAME:EDT
DTSTART:20250309T070000
END:DAYLIGHT
BEGIN:STANDARD
TZOFFSETFROM:-0400
TZOFFSETTO:-0500
TZNAME:EST
DTSTART:20251102T060000
END:STANDARD
BEGIN:DAYLIGHT
TZOFFSETFROM:-0500
TZOFFSETTO:-0400
TZNAME:EDT
DTSTART:20260308T070000
END:DAYLIGHT
BEGIN:STANDARD
TZOFFSETFROM:-0400
TZOFFSETTO:-0500
TZNAME:EST
DTSTART:20261101T060000
END:STANDARD
BEGIN:DAYLIGHT
TZOFFSETFROM:-0500
TZOFFSETTO:-0400
TZNAME:EDT
DTSTART:20270314T070000
END:DAYLIGHT
BEGIN:STANDARD
TZOFFSETFROM:-0400
TZOFFSETTO:-0500
TZNAME:EST
DTSTART:20271107T060000
END:STANDARD
END:VTIMEZONE
BEGIN:VEVENT
DTSTART;TZID=America/New_York:20260423T090000
DTEND;TZID=America/New_York:20260423T100000
DTSTAMP:20260423T074017
CREATED:20260331T012845Z
LAST-MODIFIED:20260421T003432Z
UID:51527-1776934800-1776938400@www.pgalums.com
SUMMARY:Boston & NE  Chapter: How Boards Decide-a look into the selection room
DESCRIPTION:Research from leading search firms such as Spencer Stuart and Heidrick & Struggles shows that up to 70–80% of board appointments happen through networks and informal referrals – often before the “process” even begins. \nIn other words: the shortlist is often written before you know there is one. \nIn this webinar\, we take you inside the selection room to unpack how boards actually choose. \nBringing together perspectives from academia\, experienced board leadership\, and Boardway’s data-driven approach to modern board search\, we combine research\, real-world decision-making\, and new thinking on how visibility is created. \nMore importantly\, you will walk away with practical tools to position yourself\, build the right visibility\, and increase your chances of making it into – and through -the shortlist. \n\nREGISTER HERE
URL:https://www.pgalums.com/event/boston-chapter-how-boards-decide-a-look-into-the-selection-room/
LOCATION:Zoom Event
CATEGORIES:Boston,Chapter Webinars,Global,Homepage,Webinars,WLF Webinars,Women’s Leadership Forum
ATTACH;FMTTYPE=image/png:https://www.pgalums.com/wp-content/uploads/2026/03/1f987f07-55f0-1ec4-b263-8a06b17402d1.png
END:VEVENT
BEGIN:VEVENT
DTSTART;TZID=America/New_York:20260513T120000
DTEND;TZID=America/New_York:20260513T130000
DTSTAMP:20260423T074017
CREATED:20260417T140802Z
LAST-MODIFIED:20260422T105904Z
UID:51752-1778673600-1778677200@www.pgalums.com
SUMMARY:Conversations on Board Roles - Women on Boards (Zoom Roundtable)
DESCRIPTION:Join us for a virtual roundtable for women in the P&G Alumni Network exploring board roles and leadership. \nNo presentations.No slides.Just real conversation with thoughtful\, accomplished women across industries and geographies. \nThis is a chance to meet others on a similar path — to exchange perspectives\, uncover common ground\, and start building meaningful connections. \nDepending on group size\, we may use smaller breakout discussions to keep conversations personal\, engaging\, and relevant. \nBring your perspective. Share your experience. Walk away with connections that last beyond this conversation.
URL:https://www.pgalums.com/event/conversations-on-board-roles-women-on-boards-webinar/
LOCATION:Zoom Event
CATEGORIES:Homepage,WLF Webinars
END:VEVENT
BEGIN:VEVENT
DTSTART;TZID=America/New_York:20260521T090000
DTEND;TZID=America/New_York:20260521T100000
DTSTAMP:20260423T074017
CREATED:20260331T020220Z
LAST-MODIFIED:20260421T020322Z
UID:51533-1779354000-1779357600@www.pgalums.com
SUMMARY:Boston & NE Chapter Board Series: How to Position across Board types: one profile\, multiple possibilities
DESCRIPTION:REGISTER HERE
URL:https://www.pgalums.com/event/boston-chapter-board-series-how-to-position-across-board-types-one-profile-multiple-possibilities/
LOCATION:Zoom Event
CATEGORIES:Boston,Chapter Webinars,Global,Homepage,Webinars
ATTACH;FMTTYPE=image/png:https://www.pgalums.com/wp-content/uploads/2026/03/Webinar-2-Boardway-May-21-2026-.png
END:VEVENT
BEGIN:VEVENT
DTSTART;TZID=America/New_York:20260609T090000
DTEND;TZID=America/New_York:20260609T100000
DTSTAMP:20260423T074017
CREATED:20260205T010711Z
LAST-MODIFIED:20260305T191326Z
UID:50879-1780995600-1780999200@www.pgalums.com
SUMMARY:ES Webinar: Creating truly inclusive cultures in a divisive and changing world with René Bujard
DESCRIPTION:René brings a strong strategic multi-functional approach rooted in operational experience\, successfully demonstrated in the corporate\, non-profit\, private equity and family owned sectors\, René is currently the Chief HR and Corporate Communications Officer for the Sunstar group\, a global family-owned company founded in Japan 90 years ago and now headquartered in Switzerland. His prior positions were with Galderma\, as HR Director Global R&D\, where he built capability to launch the company’s first biologics and led the integration of R&D resources into a global organization. He was also Global Human Resources Director for Oxfam International\, where he led the HR function across the confederation through the integration of all worldwide operations\, building a very diverse multi-locational global HR team which implemented its first global HR strategy and was a thought leader in the INGO HR Director community\, notably to improve safeguarding standards and practices globally. The first part of his career was with Procter & Gamble in various HR assignments in Belgium\, Singapore\, Switzerland\, the UK and the USA. In the past 20 years\, René has developed a passion and deep competence in the area of Diversity\, Equity & Inclusion (DE&I)\, which he uses to transform organizational cultures to achieve higher mutual understanding\, engagement\, and business results. He believes that DE&I is a powerful organizational strategy to boost individual development and business results which is still misunderstood and therefore under-utilized\, even by well-intended leaders. René role models how straight while males can empower women\, LGBT+ staff\, racial\, ethnic and other minority groups to reach their full potential\, thus benefitting everyone\, including themselves. René holds a Master degree in Commercial and Industrial Sciences from the University of Geneva. He is a Swiss citizen\, his wife is British and they have two daughters who live in the UK. \n\nTO REGISTER\, PLEASE SIGN IN.
URL:https://www.pgalums.com/event/es-webinar-creating-truly-inclusive-cultures-in-a-divisive-and-changing-world-with-rene-bujard/
LOCATION:Zoom Event
CATEGORIES:Enrichment Series,Global,Homepage,Webinars
END:VEVENT
BEGIN:VEVENT
DTSTART;TZID=America/New_York:20260618T090000
DTEND;TZID=America/New_York:20260618T100000
DTSTAMP:20260423T074017
CREATED:20260331T020420Z
LAST-MODIFIED:20260421T003355Z
UID:51535-1781773200-1781776800@www.pgalums.com
SUMMARY:Boston & NE Chapter Board Series:Succeeding once you are in-what is your Board career strategy
DESCRIPTION:REGISTER HERE
URL:https://www.pgalums.com/event/boston-chapter-board-seriessucceeding-once-you-are-in-what-is-your-board-career-strategy/
LOCATION:Zoom Event
CATEGORIES:Boston,Chapter Webinars,Global,Homepage,Webinars
END:VEVENT
BEGIN:VEVENT
DTSTART;TZID=America/New_York:20260908T090000
DTEND;TZID=America/New_York:20260908T100000
DTSTAMP:20260423T074017
CREATED:20260205T011122Z
LAST-MODIFIED:20260305T191251Z
UID:50882-1788858000-1788861600@www.pgalums.com
SUMMARY:ES Webinar: The Science Behind Superior Products: From Insight to Innovation- Victor Aguilar
DESCRIPTION:TO REGISTER\, PLEASE SIGN IN.
URL:https://www.pgalums.com/event/es-webinar-pg-alumni-enrichment-series-webinar-victor-aguilar/
LOCATION:Zoom Event
CATEGORIES:Enrichment Series,Global,Homepage,Webinars
END:VEVENT
BEGIN:VEVENT
DTSTART;TZID=America/New_York:20261208T090000
DTEND;TZID=America/New_York:20261208T100000
DTSTAMP:20260423T074017
CREATED:20260205T035959Z
LAST-MODIFIED:20260305T191201Z
UID:50886-1796720400-1796724000@www.pgalums.com
SUMMARY:ES Webinar: Beyond the Buzzwords: A CIO’s Guide to Real-World Digital Transformation
DESCRIPTION:Join us for an exclusive conversation with Kshitij Mulay\, CIO of Sephora Asia\, as he offers a candid\, practitioner’s perspective on digital transformation\, cutting through the hype to reveal what truly drives success. Drawing from real-world examples of both successes and setbacks\, Kshitij will unpack the evolving role of technology and its interplay with people\, processes\, and culture. \nThis session will explore how mindset shapes adoption\, how leadership navigates change\, and why transformation is as much about human dynamics as it is about digital tools. Whether you’re leading a transformation or just beginning the journey\, expect insights that are practical\, honest\, and refreshingly actionable. \nTO REGISTER\, PLEASE SIGN IN.
URL:https://www.pgalums.com/event/es-webinar-beyond-the-buzzwords-a-cios-guide-to-real-world-digital-transformation/
LOCATION:Zoom Event
CATEGORIES:Enrichment Series,Global,Homepage,Webinars
END:VEVENT
END:VCALENDAR