BEGIN:VCALENDAR
VERSION:2.0
PRODID:-//P&amp;G Alumni Network - ECPv6.15.20//NONSGML v1.0//EN
CALSCALE:GREGORIAN
METHOD:PUBLISH
X-WR-CALNAME:P&amp;G Alumni Network
X-ORIGINAL-URL:https://www.pgalums.com
X-WR-CALDESC:Events for P&amp;G Alumni Network
REFRESH-INTERVAL;VALUE=DURATION:PT1H
X-Robots-Tag:noindex
X-PUBLISHED-TTL:PT1H
BEGIN:VTIMEZONE
TZID:America/New_York
BEGIN:DAYLIGHT
TZOFFSETFROM:-0500
TZOFFSETTO:-0400
TZNAME:EDT
DTSTART:20230312T070000
END:DAYLIGHT
BEGIN:STANDARD
TZOFFSETFROM:-0400
TZOFFSETTO:-0500
TZNAME:EST
DTSTART:20231105T060000
END:STANDARD
BEGIN:DAYLIGHT
TZOFFSETFROM:-0500
TZOFFSETTO:-0400
TZNAME:EDT
DTSTART:20240310T070000
END:DAYLIGHT
BEGIN:STANDARD
TZOFFSETFROM:-0400
TZOFFSETTO:-0500
TZNAME:EST
DTSTART:20241103T060000
END:STANDARD
BEGIN:DAYLIGHT
TZOFFSETFROM:-0500
TZOFFSETTO:-0400
TZNAME:EDT
DTSTART:20250309T070000
END:DAYLIGHT
BEGIN:STANDARD
TZOFFSETFROM:-0400
TZOFFSETTO:-0500
TZNAME:EST
DTSTART:20251102T060000
END:STANDARD
BEGIN:DAYLIGHT
TZOFFSETFROM:-0500
TZOFFSETTO:-0400
TZNAME:EDT
DTSTART:20260308T070000
END:DAYLIGHT
BEGIN:STANDARD
TZOFFSETFROM:-0400
TZOFFSETTO:-0500
TZNAME:EST
DTSTART:20261101T060000
END:STANDARD
BEGIN:DAYLIGHT
TZOFFSETFROM:-0500
TZOFFSETTO:-0400
TZNAME:EDT
DTSTART:20270314T070000
END:DAYLIGHT
BEGIN:STANDARD
TZOFFSETFROM:-0400
TZOFFSETTO:-0500
TZNAME:EST
DTSTART:20271107T060000
END:STANDARD
END:VTIMEZONE
BEGIN:VTIMEZONE
TZID:Africa/Casablanca
BEGIN:STANDARD
TZOFFSETFROM:+0100
TZOFFSETTO:+0000
TZNAME:+00
DTSTART:20250223T020000
END:STANDARD
BEGIN:DAYLIGHT
TZOFFSETFROM:+0000
TZOFFSETTO:+0100
TZNAME:+01
DTSTART:20250406T020000
END:DAYLIGHT
BEGIN:STANDARD
TZOFFSETFROM:+0100
TZOFFSETTO:+0000
TZNAME:+00
DTSTART:20260215T020000
END:STANDARD
BEGIN:DAYLIGHT
TZOFFSETFROM:+0000
TZOFFSETTO:+0100
TZNAME:+01
DTSTART:20260322T020000
END:DAYLIGHT
BEGIN:STANDARD
TZOFFSETFROM:+0100
TZOFFSETTO:+0000
TZNAME:+00
DTSTART:20270207T020000
END:STANDARD
BEGIN:DAYLIGHT
TZOFFSETFROM:+0000
TZOFFSETTO:+0100
TZNAME:+01
DTSTART:20270314T020000
END:DAYLIGHT
END:VTIMEZONE
BEGIN:VTIMEZONE
TZID:America/Mexico_City
BEGIN:DAYLIGHT
TZOFFSETFROM:-0600
TZOFFSETTO:-0500
TZNAME:CDT
DTSTART:20220403T080000
END:DAYLIGHT
BEGIN:STANDARD
TZOFFSETFROM:-0500
TZOFFSETTO:-0600
TZNAME:CST
DTSTART:20221030T070000
END:STANDARD
END:VTIMEZONE
BEGIN:VEVENT
DTSTART;TZID=America/New_York:20260423T090000
DTEND;TZID=America/New_York:20260423T100000
DTSTAMP:20260423T104026
CREATED:20260331T012845Z
LAST-MODIFIED:20260421T003432Z
UID:51527-1776934800-1776938400@www.pgalums.com
SUMMARY:Boston & NE  Chapter: How Boards Decide-a look into the selection room
DESCRIPTION:Research from leading search firms such as Spencer Stuart and Heidrick & Struggles shows that up to 70–80% of board appointments happen through networks and informal referrals – often before the “process” even begins. \nIn other words: the shortlist is often written before you know there is one. \nIn this webinar\, we take you inside the selection room to unpack how boards actually choose. \nBringing together perspectives from academia\, experienced board leadership\, and Boardway’s data-driven approach to modern board search\, we combine research\, real-world decision-making\, and new thinking on how visibility is created. \nMore importantly\, you will walk away with practical tools to position yourself\, build the right visibility\, and increase your chances of making it into – and through -the shortlist. \n\nREGISTER HERE
URL:https://www.pgalums.com/event/boston-chapter-how-boards-decide-a-look-into-the-selection-room/
LOCATION:Zoom Event
CATEGORIES:Boston,Chapter Webinars,Global,Homepage,Webinars,WLF Webinars,Women’s Leadership Forum
ATTACH;FMTTYPE=image/png:https://www.pgalums.com/wp-content/uploads/2026/03/1f987f07-55f0-1ec4-b263-8a06b17402d1.png
END:VEVENT
BEGIN:VEVENT
DTSTART;TZID=Africa/Casablanca:20260422T180000
DTEND;TZID=Africa/Casablanca:20260422T210000
DTSTAMP:20260423T104026
CREATED:20260419T141858Z
LAST-MODIFIED:20260421T015918Z
UID:51830-1776880800-1776891600@www.pgalums.com
SUMMARY:Morocco Chapter : Enrichment Series 2030 Vision and Strategy for the World Cup
DESCRIPTION:P&G Alumni Morocco is honored to invite Mr Fouzi Lekjaa President of Royal Moroccan Football Federation and Minister of Budget of the Government of Morocco\, as special guest to present the 2030 Vision and Strategy for the development with the perspective of receiving 26 Million visitors by 2030 while hosting the World Cup co-organized with Spain and Portugal. \nThe conference will take place in Hotel Le Casablanca on Wednesday April 22nd\, 2026 by 18H00 (GMT+1). \nWe are expecting around 100 P&G Alumni members. Stay tuned ! \nJoin the Morocco Chapter here \n 
URL:https://www.pgalums.com/event/pg-alumni-morocco-chapter-enrichment-series-3/
LOCATION:Le Casablanca Hotel\, 19 Boulevard Moulay Rachid\, Casablanca\, Casablanca\, 20000\, Morocco
CATEGORIES:Chapter Webinars,Enrichment,Global,Homepage,Morocco
ATTACH;FMTTYPE=image/png:https://www.pgalums.com/wp-content/uploads/2026/04/PG-Conference-Fouzi-Lekjaa-22.04.2026.png
ORGANIZER;CN="Morocco Chapter":MAILTO:ali.tahiri67@gmail.com
END:VEVENT
BEGIN:VEVENT
DTSTART;TZID=America/Mexico_City:20260415T180000
DTEND;TZID=America/Mexico_City:20260415T190000
DTSTAMP:20260423T104026
CREATED:20260303T161314Z
LAST-MODIFIED:20260414T231654Z
UID:51243-1776276000-1776279600@www.pgalums.com
SUMMARY:Spanish Speaking Webinar: Productividad real con IA: cómo avanzar más allá de la experimentación
DESCRIPTION:Haz clic aquí para registrarte\nEscucha a: Ana María Martínez Franklin\, Kaudal cofounder & CGO \n• Se habla mucho de IA y automatización\, y casi todas las empresas han iniciado experimentos impulsados por equipos centrales de tecnología o data.\n• Pero las oportunidades están en todas partes\, en cada rol y en cada proceso. Por eso\, las empresas más efectivas están empoderando a sus colaboradores para usar IA y automatización y transformar su forma de trabajar.\n• En esta charla conocerás las piezas clave de ese sistema\, junto con casos reales de empresas grandes y medianas que lo han utilizado para liberar y reutilizar miles de horas de su personal.\nSEMBLANZA \nAna es apasionada por construir negocios que solucionen problemas reales y desatendidos. Es Ingeniera con maestría en Responsabilidad Social\, fue Directora de Mercadeo de P&G para Perú\, Colombia y Chile y desde el 2015 es emprendedora con impacto. Junto a sus socios\, en Laboratoria\, su primera startup\, han abierto oportunidades laborales para miles de mujeres en tecnología\, y desde el 2023 en Kaudal\, tienen la misión de convertir a colaboradores administrativos en automatizadores irremplazables\, que aprenden a usar herramientas no-code y de IA para automatizar tareas y liberar tiempo valioso. Ana cree firmemente que la automatización no es una amenaza\, sino un superpoder que todos podemos tener y las empresas que empoderen a sus colaboradores a desarrollarlo\, serán las más eficientes y preparadas para liderar el futuro.
URL:https://www.pgalums.com/event/spanish-speaking-webinar-productividad-real-con-ia-como-avanzar-mas-alla-de-la-experimentacion/
LOCATION:Zoom Event
CATEGORIES:Argentina,Brazil,Chile,Colombia,Costa Rica,Global,Homepage,Mexico,Panama,Peru,Puerto Rico,Spanish Speaking Forum,Spanish Speaking Webinars
ATTACH;FMTTYPE=image/jpeg:https://www.pgalums.com/wp-content/uploads/2026/03/WhatsApp-Image-2026-03-31-at-15.24.15.jpeg
END:VEVENT
BEGIN:VEVENT
DTSTART;TZID=America/New_York:20260303T090000
DTEND;TZID=America/New_York:20260303T100000
DTSTAMP:20260423T104027
CREATED:20251212T203707Z
LAST-MODIFIED:20260223T215912Z
UID:50602-1772528400-1772532000@www.pgalums.com
SUMMARY:ES Webinar: How P&G Uses Technology and AI to Drive Growth
DESCRIPTION:Join Seth Cohen\, Chief Information Officer of Procter & Gamble\, for a practical conversation on how technology\, AI\, and digital tools are helping P&G better serve consumers and deliver sustainable growth.\n\nIn this Enrichment Series webinar\, Seth shares how digital transformation enables smarter decisions\, stronger alignment across teams\, and real business impact at global scale. \nIn this session\, you’ll learn: \n\nHow P&G uses digital tools to execute business strategy at scale\nWhere AI is already improving consumer experience and efficiency\nHow CIOs align IT\, marketing\, and operations around shared goals\nWhat global IT transformations in CPG can teach leaders everywhere\nHow to build faster\, smarter decision systems\n\nThis session is especially relevant for professionals in technology\, marketing\, analytics\, innovation\, and leadership. \nAbout the Speaker\nSeth Cohen is Chief Information Officer at Procter & Gamble\, where he leads the company’s global digital transformation strategy to improve consumer experience and drive business growth. \nWith more than 30 years of experience across consumer goods and retail\, Seth has held senior IT leadership roles at PepsiCo and Reckitt Benckiser\, where he led major global systems deployments\, upgrades\, and integrations. He is known for building world-class IT organizations and developing future industry leaders. \nSeth and his family reside in Cincinnati\, Ohio. \n\n\n\nReady to turn technology into real business results?Register now to join this live Enrichment Series webinar and gain practical insights you can apply immediately.
URL:https://www.pgalums.com/event/es-webinar-pg-tech-ai-growth/
LOCATION:Zoom Event
CATEGORIES:Enrichment Series,Global,Homepage,Webinars
ATTACH;FMTTYPE=image/jpeg:https://www.pgalums.com/wp-content/uploads/2025/12/1770410008890.jpeg
END:VEVENT
BEGIN:VEVENT
DTSTART;TZID=America/New_York:20251209T090000
DTEND;TZID=America/New_York:20251209T100000
DTSTAMP:20260423T104027
CREATED:20251121T175149Z
LAST-MODIFIED:20251205T011124Z
UID:50471-1765270800-1765274400@www.pgalums.com
SUMMARY:ES Webinar: Grit and Grace: Staying Rooted\, Resilient\, and Ready in High-Stakes Moments
DESCRIPTION:Rise with Grit and Grace: Leading with Confidence When the Pressure Is On\nWhen the spotlight is on and the pressure is high\, will you shrink back or rise with grit and grace? This powerful session reveals how to stay unshakable\, speak with authority\, lead with EQ\, and turn even the toughest moments into defining chapters of your legacy. \nFeaturing Kristin Harper\nKristin Harper is the founder and CEO of Driven to Succeed and a former Fortune 15 Global VP known for leading iconic brands like Crest and Hershey’s KISSES. An ICF certified coach and award-winning business leader\, she helps teams elevate performance with emotional intelligence\, resilience\, and courageous leadership. Her work has been featured in CNBC\, Business Insider\, and Entrepreneur. \nWhy Attend\n\n\nLearn how to stay grounded during high-pressure moments \n\n\nDevelop your executive presence and communication confidence \n\n\nStrengthen emotional intelligence for better team leadership \n\n\nTransform challenges into opportunities for personal and professional growth \n\n\nSave Your Seat\nJoin us for this inspiring session and take your leadership to the next level. \nRegister here
URL:https://www.pgalums.com/event/es-webinar-grit-and-grace-staying-rooted-resilient-and-ready-in-high-stakes-moments/
LOCATION:Zoom Event
CATEGORIES:Enrichment Series,Homepage,Webinars
ATTACH;FMTTYPE=image/png:https://www.pgalums.com/wp-content/uploads/2025/11/34909037-8620-bc1d-db27-8a8d70ae776b.png
END:VEVENT
BEGIN:VEVENT
DTSTART;TZID=America/New_York:20250909T090000
DTEND;TZID=America/New_York:20250909T100000
DTSTAMP:20260423T104027
CREATED:20250722T142909Z
LAST-MODIFIED:20250729T183657Z
UID:49243-1757408400-1757412000@www.pgalums.com
SUMMARY:Human by Design: Navigating Creativity and Career in the Age of AI
DESCRIPTION:In a world increasingly shaped by algorithms\, what does it mean to design with heart? Wendy Orner joins us to explore the evolving partnership between technology and creativity—and what it takes to stay human-centered\, both in your work and in your career choices. \nWendy is a transformational Design Leader who has driven double-digit growth for global CPG brands over her 20+ year career. Blending strategic vision with creative excellence\, she solves complex business challenges to create memorable brand experiences. \nHer leadership philosophy centers around developing people\, future-proofing the value of Design in a fast-changing environment and building relationships.
URL:https://www.pgalums.com/event/human-by-design-navigating-creativity-and-career-in-the-age-of-ai/
LOCATION:Zoom Event
CATEGORIES:Enrichment Series,Webinars
ATTACH;FMTTYPE=image/webp:https://www.pgalums.com/wp-content/uploads/2025/07/Mar-Speaker-Highlight.webp
END:VEVENT
BEGIN:VEVENT
DTSTART;TZID=America/New_York:20250410T180000
DTEND;TZID=America/New_York:20250410T190000
DTSTAMP:20260423T104027
CREATED:20250324T204429Z
LAST-MODIFIED:20250409T153937Z
UID:48340-1744308000-1744311600@www.pgalums.com
SUMMARY:Spanish Speaking Webinar: De Líderes a Visionarios:  ¿Cómo la Inteligencia Artificial está  demandando una redefinición en el Liderazgo?
DESCRIPTION:Para visualizar el link del evento\, regístrate como miembro del P&G Alumni Network aquí : https://www.pgalums.com/join/ \nEscucha a: \nClaudia Nuñez Rosales \nInició su carrera en Procter & Gamble como becaria\, donde tuvo diversas responsabilidades en la cadena de suministro durante 15 años\, hasta convertirse en directora de sitios de manufactura en Escuintla\, Guatemala y Talismán\, México. Luego se unió a Unilever\, participando en la transición global de las marcas Zest y Camay. \nRecibió el Premio Nacional de Logística en 2019\, y ha sido reconocida como una de las “100 mujeres más poderosas de México” por la revista Expansión. Es conferencista en temas de Liderazgo\, Sustentabilidad y Equidad de Género en eventos con Forbes y otros foros destacados.Actualmente\, cursa un programa para Chief Operating Officer en el MIT. Con 25 años de experiencia en Supply Chain y Manufactura\, se destacó en Procter & Gamble y Unilever\, donde fue Vicepresidenta de Cadena de Suministro para la categoría de Nutrición en Latinoamérica\, liderando a más de 5\,000 colaboradores y 10 fábricas\, con un negocio cercano a 2 mil millones de euros anuales.
URL:https://www.pgalums.com/event/spanish-speaking-webinar-de-lideres-a-visionarios-como-la-inteligencia-artificial-esta-demandando-una-redefinicion-en-el-liderazgo/
LOCATION:Zoom Event
CATEGORIES:Global,Homepage,Mexico,Spanish Speaking Forum,Spanish Speaking Webinars
ATTACH;FMTTYPE=image/jpeg:https://www.pgalums.com/wp-content/uploads/2025/03/webinar.jpg
END:VEVENT
BEGIN:VEVENT
DTSTART;TZID=America/New_York:20250311T090000
DTEND;TZID=America/New_York:20250311T100000
DTSTAMP:20260423T104027
CREATED:20250124T002939Z
LAST-MODIFIED:20250130T212128Z
UID:47829-1741683600-1741687200@www.pgalums.com
SUMMARY:Enrichment Series: 5 AI Agents Every B2B Team Needs to Scale Revenue Faster with Maddie Bell
DESCRIPTION:See how today’s smartest AI tools are driving millions in pipeline growth and accelerating GTM success. \nJoin Us for a virtual webinar with Maddie Bell\, Con-Founder & CEOCo-Founder & CEO Scheduler AI \nMaddie Bell began her career managing billion-dollar brands for P&G. Today\, she is the Founder and CEO of Scheduler AI\, a patented\, award-winning AI company that helps businesses instantly qualify and book meetings with their best buyers. Scheduler AI’s fully customizable\, fully autonomous AI agents have set or saved over $10M in qualified pipeline meetings for customers in the last several months by engaging with customers conversationally\, qualifying them\, routing them appropriately\, booking them into meetings\, and managing all the meeting details.
URL:https://www.pgalums.com/event/enrichment-series-with-maddie-bell/
LOCATION:Online event
CATEGORIES:Enrichment Series,Global,Homepage,Webinars
ATTACH;FMTTYPE=image/png:https://www.pgalums.com/wp-content/uploads/2025/01/Kendra-Scott-11.png
END:VEVENT
BEGIN:VEVENT
DTSTART;TZID=America/New_York:20241210T090000
DTEND;TZID=America/New_York:20241210T100000
DTSTAMP:20260423T104027
CREATED:20240816T092915Z
LAST-MODIFIED:20241010T233233Z
UID:46749-1733821200-1733824800@www.pgalums.com
SUMMARY:Enrichment Series: Consumer Marketing with Pankaj Bhalla
DESCRIPTION:Join Us for a virtual webinar with Pankaj Bhalla\, Senior VP and General Manager at Europe Grooming in Geneva\, for an engaging conversation on Consumer Marketing!
URL:https://www.pgalums.com/event/consumer-marketing/
LOCATION:Online event
CATEGORIES:Enrichment Series,Global,Homepage,Webinars
ATTACH;FMTTYPE=image/png:https://www.pgalums.com/wp-content/uploads/2024/08/Your-paragraph-text.png
END:VEVENT
BEGIN:VEVENT
DTSTART;TZID=America/New_York:20241008T090000
DTEND;TZID=America/New_York:20241008T100000
DTSTAMP:20260423T104027
CREATED:20240816T010642Z
LAST-MODIFIED:20240919T115417Z
UID:46784-1728378000-1728381600@www.pgalums.com
SUMMARY:WLF and Foundation: Women on Boards - Champions of Change
DESCRIPTION:Join Us for a Special Enrichment Series Webinar: Women on Boards—Champions of Change\, in partnership with P&G Alumni Foundation and Women’s Leadership Forum! \nWe are thrilled to welcome Janet Butler\, Teri List\, and Juliana Azevedo as they discuss their experiences and the impact women bring to board leadership. \nLearn firsthand how these incredible women have championed change in their industries and communities. \nJanet is a Mechanical Engineer who worked for over 23 years for Proctor & Gamble (P&G) in both the United States and Nigeria. She has clocked many “firsts” in her career and is most proud of having been the first Plant Manager for Procter & Gamble Nigeria Ltd. \nTeri List served as executive vice president and chief financial officer at Gap\, Inc.\, where she oversaw the finance\, real estate and information technology organizations\, as well as interim oversight of supply chain. List also served as the executive vice president and chief financial officer of Dick’s Sporting Goods Inc. and Kraft Foods Group. From 1994 to 2013\, List was with Procter & Gamble\, progressing to senior vice president and treasurer. Before this she spent over nine years at Deloitte & Touche LLP. \nJuliana Azevedo leads P&G ’s second largest category\, Home Care\, a business with meaningful value creation potential across categories and markets. The portfolio includes iconic brands such as Dawn\, Cascade\, Fairy\, Mr. Clean\, Swiffer and Febreze that strive to make household chores simpler\, faster\, more sustainable and accessible to everyone. Juliana also leads P&G Professional\, which serves the foodservice\, building\, cleaning and maintenance industries with some of the world’s most trusted cleaning products. Juliana other roles include Executive Sponsor Gender Equality\, LinkedIn Top Voice and Member of the board of United Way Worldwide
URL:https://www.pgalums.com/event/women-nonprofit-boards/
LOCATION:Zoom Event
CATEGORIES:Enrichment Series,Foundation,Global,Homepage,Women’s Leadership Forum
ATTACH;FMTTYPE=image/png:https://www.pgalums.com/wp-content/uploads/2024/08/Speaker-Highlight-Template-15.png
END:VEVENT
BEGIN:VEVENT
DTSTART;TZID=America/New_York:20240910T090000
DTEND;TZID=America/New_York:20240910T100000
DTSTAMP:20260423T104027
CREATED:20240813T162226Z
LAST-MODIFIED:20240813T162226Z
UID:46773-1725958800-1725962400@www.pgalums.com
SUMMARY:ES Webinar: AI\, the next frontier
DESCRIPTION:With a distinguished career spanning over three decades in the CPG industry at P&G and GSK across five countries\, Mr. Bacuet has honed his expertise as a Business Intelligence executive in Analytics & Insights. Three years ago\, Mr. Bacuet transitioned to the vendor side\, where he now spearheads a team of more than 400 top-tier AI and Analytics professionals. Together\, they drive innovation and deliver strategic insights for over 40 Fortune 500 CPG and retail clients across Europe. \nRegister for this live webinar today!
URL:https://www.pgalums.com/event/es-webinar-ai-the-next-frontier/
LOCATION:Online event
CATEGORIES:Enrichment Series,Global,Homepage,Webinars
ATTACH;FMTTYPE=image/png:https://www.pgalums.com/wp-content/uploads/2024/08/Jan-Speaker-Highight-1.png
END:VEVENT
BEGIN:VEVENT
DTSTART;TZID=America/New_York:20240904T180000
DTEND;TZID=America/New_York:20240904T190000
DTSTAMP:20260423T104027
CREATED:20240801T235752Z
LAST-MODIFIED:20240819T195337Z
UID:46674-1725472800-1725476400@www.pgalums.com
SUMMARY:Spanish Speaking Webinar: Conectando generaciones: Cerrando la brecha digital
DESCRIPTION:Rompiendo paradigmas para lograr un ambiente más eficiente y colaborativo \n  \nDon’t let the generational gap intimidate you – it’s time to bridge it. Ever felt like managing a multigenerational workforce is akin to herding cats? This session is your answer. We’re about to debunk generational stereotypes\, proving it’s not about age but life stages\, shared interests\, and value alignment. Learn the secrets to successfully navigating the workplace in these challenging times. Be part of the change\, embrace diversity\, and harness the power of a multigenerational team.
URL:https://www.pgalums.com/event/mexico-chapter-from-boomers-to-zoomers-en-espanol/
LOCATION:Zoom Event
CATEGORIES:Global,Homepage,Mexico,Spanish Speaking Forum,Spanish Speaking Webinars
ATTACH;FMTTYPE=image/png:https://www.pgalums.com/wp-content/uploads/2024/08/White-and-Blue-Simple-Business-Conference-A4-Document.png
END:VEVENT
BEGIN:VEVENT
DTSTART;TZID=America/Mexico_City:20240522T180000
DTEND;TZID=America/Mexico_City:20240522T190000
DTSTAMP:20260423T104027
CREATED:20240418T122950Z
LAST-MODIFIED:20240419T050111Z
UID:46070-1716400800-1716404400@www.pgalums.com
SUMMARY:Spanish Speaking Webinar: Artificial Intelligence
DESCRIPTION:P&G Alumni Conferencia Virtual en Español: ¿Qué es la inteligencia artificial?\, ¿cómo funciona? y ¿cómo se aplica a los negocios? \n\n\n\n\n\nEscucha a: Alex Romero CEO de SentientInfo LLC\, experto en tecnología incluyendo Inteligencia Artificial\, Ciencia de Datos y desarrollo de software. Alex se graduó de maestría en marketing en la universidad de Kellogg\, maestría en administración de negocios en el ITESM y de Ingeniería Industrial y de Sistemas en el ITESM. Alex tiene estudios de inteligencia artificial en Kellogg\, estudios de ciencia de datos en UT\, estudios de IA y Visión de computador en UT\, estudios de procesamiento de lenguaje natural en UT y estudios de Inteligencia Artificial en AWS\, Google Cloud y MS Azure en UT. Anterior a su carrera en tecnología\, Alex ha tenido una extensa carrera en la industria petrolera\, como vicepresidente de digitalización e ingeniería con KBR y como director de América de servicios técnicos y digitales para Shell. Y anterior a esto tuvo varios puestos en las industrias farmacéuticas y de consumo en empresas como GSK y P&G.
URL:https://www.pgalums.com/event/spanish-speaking-webinar-artificial-intelligence/
LOCATION:Zoom Event
CATEGORIES:Brazil,Chile,Colombia,Costa Rica,Global,Homepage,Mexico,Panama,Peru,Puerto Rico,Spanish Speaking Forum,Spanish Speaking Webinars
ATTACH;FMTTYPE=image/jpeg:https://www.pgalums.com/wp-content/uploads/2024/04/Spanish-Speaking-AI.jpg
END:VEVENT
BEGIN:VEVENT
DTSTART;TZID=America/Mexico_City:20230419T180000
DTEND;TZID=America/Mexico_City:20230419T190000
DTSTAMP:20260423T104027
CREATED:20230320T232500Z
LAST-MODIFIED:20230320T233359Z
UID:39352-1681927200-1681930800@www.pgalums.com
SUMMARY:Conferencia Virtual en Español: Del poder del Brand Management Tradicional al poder en las Redes Sociales
DESCRIPTION:Te invitamos al Webinar en vivo con José Ignacio Sordo el 19 de Abril a las 6:00pm hora CDMX\, México. \nAprende que el modelo del marketing “típico” que  conocimos cuando trabajamos en P&G ha cambiado y ahora hay nuevos modelos digitales a conocer que maximizan nuestras marcas y productos. \nRegistro aquí \n 
URL:https://www.pgalums.com/event/conferencia-virtual-en-espanol-del-poder-del-brand-management-tradicional-al-poder-en-las-redes-sociales/
LOCATION:Online event
CATEGORIES:Chapters,Homepage,Mexico,Spanish Speaking Webinars
ATTACH;FMTTYPE=image/png:https://www.pgalums.com/wp-content/uploads/2023/03/Webinar-GRATUITO.png
END:VEVENT
END:VCALENDAR