BEGIN:VCALENDAR
VERSION:2.0
PRODID:-//P&amp;G Alumni Network - ECPv6.15.20//NONSGML v1.0//EN
CALSCALE:GREGORIAN
METHOD:PUBLISH
X-WR-CALNAME:P&amp;G Alumni Network
X-ORIGINAL-URL:https://www.pgalums.com
X-WR-CALDESC:Events for P&amp;G Alumni Network
REFRESH-INTERVAL;VALUE=DURATION:PT1H
X-Robots-Tag:noindex
X-PUBLISHED-TTL:PT1H
BEGIN:VTIMEZONE
TZID:America/New_York
BEGIN:DAYLIGHT
TZOFFSETFROM:-0500
TZOFFSETTO:-0400
TZNAME:EDT
DTSTART:20230312T070000
END:DAYLIGHT
BEGIN:STANDARD
TZOFFSETFROM:-0400
TZOFFSETTO:-0500
TZNAME:EST
DTSTART:20231105T060000
END:STANDARD
BEGIN:DAYLIGHT
TZOFFSETFROM:-0500
TZOFFSETTO:-0400
TZNAME:EDT
DTSTART:20240310T070000
END:DAYLIGHT
BEGIN:STANDARD
TZOFFSETFROM:-0400
TZOFFSETTO:-0500
TZNAME:EST
DTSTART:20241103T060000
END:STANDARD
BEGIN:DAYLIGHT
TZOFFSETFROM:-0500
TZOFFSETTO:-0400
TZNAME:EDT
DTSTART:20250309T070000
END:DAYLIGHT
BEGIN:STANDARD
TZOFFSETFROM:-0400
TZOFFSETTO:-0500
TZNAME:EST
DTSTART:20251102T060000
END:STANDARD
END:VTIMEZONE
BEGIN:VEVENT
DTSTART;TZID=America/New_York:20240904T180000
DTEND;TZID=America/New_York:20240904T190000
DTSTAMP:20260424T143647
CREATED:20240801T235752Z
LAST-MODIFIED:20240819T195337Z
UID:46674-1725472800-1725476400@www.pgalums.com
SUMMARY:Spanish Speaking Webinar: Conectando generaciones: Cerrando la brecha digital
DESCRIPTION:Rompiendo paradigmas para lograr un ambiente más eficiente y colaborativo \n  \nDon’t let the generational gap intimidate you – it’s time to bridge it. Ever felt like managing a multigenerational workforce is akin to herding cats? This session is your answer. We’re about to debunk generational stereotypes\, proving it’s not about age but life stages\, shared interests\, and value alignment. Learn the secrets to successfully navigating the workplace in these challenging times. Be part of the change\, embrace diversity\, and harness the power of a multigenerational team.
URL:https://www.pgalums.com/event/mexico-chapter-from-boomers-to-zoomers-en-espanol/
LOCATION:Zoom Event
CATEGORIES:Global,Homepage,Mexico,Spanish Speaking Forum,Spanish Speaking Webinars
ATTACH;FMTTYPE=image/png:https://www.pgalums.com/wp-content/uploads/2024/08/White-and-Blue-Simple-Business-Conference-A4-Document.png
END:VEVENT
BEGIN:VEVENT
DTSTART;TZID=America/New_York:20240910T090000
DTEND;TZID=America/New_York:20240910T100000
DTSTAMP:20260424T143647
CREATED:20240813T162226Z
LAST-MODIFIED:20240813T162226Z
UID:46773-1725958800-1725962400@www.pgalums.com
SUMMARY:ES Webinar: AI\, the next frontier
DESCRIPTION:With a distinguished career spanning over three decades in the CPG industry at P&G and GSK across five countries\, Mr. Bacuet has honed his expertise as a Business Intelligence executive in Analytics & Insights. Three years ago\, Mr. Bacuet transitioned to the vendor side\, where he now spearheads a team of more than 400 top-tier AI and Analytics professionals. Together\, they drive innovation and deliver strategic insights for over 40 Fortune 500 CPG and retail clients across Europe. \nRegister for this live webinar today!
URL:https://www.pgalums.com/event/es-webinar-ai-the-next-frontier/
LOCATION:Online event
CATEGORIES:Enrichment Series,Global,Homepage,Webinars
ATTACH;FMTTYPE=image/png:https://www.pgalums.com/wp-content/uploads/2024/08/Jan-Speaker-Highight-1.png
END:VEVENT
END:VCALENDAR