BEGIN:VCALENDAR
VERSION:2.0
PRODID:-//P&amp;G Alumni Network - ECPv6.15.20//NONSGML v1.0//EN
CALSCALE:GREGORIAN
METHOD:PUBLISH
X-ORIGINAL-URL:https://www.pgalums.com
X-WR-CALDESC:Events for P&amp;G Alumni Network
REFRESH-INTERVAL;VALUE=DURATION:PT1H
X-Robots-Tag:noindex
X-PUBLISHED-TTL:PT1H
BEGIN:VTIMEZONE
TZID:America/Mexico_City
BEGIN:STANDARD
TZOFFSETFROM:-0600
TZOFFSETTO:-0600
TZNAME:CST
DTSTART:20230101T000000
END:STANDARD
END:VTIMEZONE
BEGIN:VEVENT
DTSTART;TZID=America/Mexico_City:20240522T180000
DTEND;TZID=America/Mexico_City:20240522T190000
DTSTAMP:20260424T204956
CREATED:20240418T122950Z
LAST-MODIFIED:20240419T050111Z
UID:46070-1716400800-1716404400@www.pgalums.com
SUMMARY:Spanish Speaking Webinar: Artificial Intelligence
DESCRIPTION:P&G Alumni Conferencia Virtual en Español: ¿Qué es la inteligencia artificial?\, ¿cómo funciona? y ¿cómo se aplica a los negocios? \n\n\n\n\n\nEscucha a: Alex Romero CEO de SentientInfo LLC\, experto en tecnología incluyendo Inteligencia Artificial\, Ciencia de Datos y desarrollo de software. Alex se graduó de maestría en marketing en la universidad de Kellogg\, maestría en administración de negocios en el ITESM y de Ingeniería Industrial y de Sistemas en el ITESM. Alex tiene estudios de inteligencia artificial en Kellogg\, estudios de ciencia de datos en UT\, estudios de IA y Visión de computador en UT\, estudios de procesamiento de lenguaje natural en UT y estudios de Inteligencia Artificial en AWS\, Google Cloud y MS Azure en UT. Anterior a su carrera en tecnología\, Alex ha tenido una extensa carrera en la industria petrolera\, como vicepresidente de digitalización e ingeniería con KBR y como director de América de servicios técnicos y digitales para Shell. Y anterior a esto tuvo varios puestos en las industrias farmacéuticas y de consumo en empresas como GSK y P&G.
URL:https://www.pgalums.com/event/spanish-speaking-webinar-artificial-intelligence/
LOCATION:Zoom Event
CATEGORIES:Brazil,Chile,Colombia,Costa Rica,Global,Homepage,Mexico,Panama,Peru,Puerto Rico,Spanish Speaking Forum,Spanish Speaking Webinars
ATTACH;FMTTYPE=image/jpeg:https://www.pgalums.com/wp-content/uploads/2024/04/Spanish-Speaking-AI.jpg
END:VEVENT
END:VCALENDAR