BEGIN:VCALENDAR
VERSION:2.0
PRODID:-//P&amp;G Alumni Network - ECPv6.15.20//NONSGML v1.0//EN
CALSCALE:GREGORIAN
METHOD:PUBLISH
X-WR-CALNAME:P&amp;G Alumni Network
X-ORIGINAL-URL:https://www.pgalums.com
X-WR-CALDESC:Events for P&amp;G Alumni Network
REFRESH-INTERVAL;VALUE=DURATION:PT1H
X-Robots-Tag:noindex
X-PUBLISHED-TTL:PT1H
BEGIN:VTIMEZONE
TZID:America/Chicago
BEGIN:DAYLIGHT
TZOFFSETFROM:-0600
TZOFFSETTO:-0500
TZNAME:CDT
DTSTART:20240310T080000
END:DAYLIGHT
BEGIN:STANDARD
TZOFFSETFROM:-0500
TZOFFSETTO:-0600
TZNAME:CST
DTSTART:20241103T070000
END:STANDARD
BEGIN:DAYLIGHT
TZOFFSETFROM:-0600
TZOFFSETTO:-0500
TZNAME:CDT
DTSTART:20250309T080000
END:DAYLIGHT
BEGIN:STANDARD
TZOFFSETFROM:-0500
TZOFFSETTO:-0600
TZNAME:CST
DTSTART:20251102T070000
END:STANDARD
BEGIN:DAYLIGHT
TZOFFSETFROM:-0600
TZOFFSETTO:-0500
TZNAME:CDT
DTSTART:20260308T080000
END:DAYLIGHT
BEGIN:STANDARD
TZOFFSETFROM:-0500
TZOFFSETTO:-0600
TZNAME:CST
DTSTART:20261101T070000
END:STANDARD
END:VTIMEZONE
BEGIN:VTIMEZONE
TZID:America/New_York
BEGIN:DAYLIGHT
TZOFFSETFROM:-0500
TZOFFSETTO:-0400
TZNAME:EDT
DTSTART:20230312T070000
END:DAYLIGHT
BEGIN:STANDARD
TZOFFSETFROM:-0400
TZOFFSETTO:-0500
TZNAME:EST
DTSTART:20231105T060000
END:STANDARD
BEGIN:DAYLIGHT
TZOFFSETFROM:-0500
TZOFFSETTO:-0400
TZNAME:EDT
DTSTART:20240310T070000
END:DAYLIGHT
BEGIN:STANDARD
TZOFFSETFROM:-0400
TZOFFSETTO:-0500
TZNAME:EST
DTSTART:20241103T060000
END:STANDARD
BEGIN:DAYLIGHT
TZOFFSETFROM:-0500
TZOFFSETTO:-0400
TZNAME:EDT
DTSTART:20250309T070000
END:DAYLIGHT
BEGIN:STANDARD
TZOFFSETFROM:-0400
TZOFFSETTO:-0500
TZNAME:EST
DTSTART:20251102T060000
END:STANDARD
END:VTIMEZONE
BEGIN:VEVENT
DTSTART;TZID=America/Chicago:20250923T180000
DTEND;TZID=America/Chicago:20250923T203000
DTSTAMP:20260423T060909
CREATED:20250908T192159Z
LAST-MODIFIED:20250908T200346Z
UID:49707-1758650400-1758659400@www.pgalums.com
SUMMARY:Atlanta Chapter: Alumni Mixer
DESCRIPTION:Dear P&G Alumni Atlanta Chapter Members\, \nWe’d like to invite you to join us on Tuesday September 23d starting 6pm at Emory University’s Goizueta Business School for a fireside chat with Laura Knebusch\, P&G Alumna and SVP CPG Marketing and CX at Georgia-Pacific. \nLaura will speak about Building Brands through Modern Marketing\, and specifically how GP brands are doing it through consumer experience\, data driven marketing and connecting with culture. \nLOCATION\nEmory University’s Goizueta Business School (Conference room W525)\, 1300 Clifton Rd NE\, Atlanta\, GA\, 30322 \nSCHEDULE\n6.00pm to 6.30pm: Registration & Networking\n6.30pm to 7.30pm: Fireside Chat with Laura Knebusch\n7.30pm to 8.30pm: Networking\, Appetizers & Drinks \nCONTRIBUTION\n$25 \nRSVP REQUIRED\nSave your spot on Eventbrite at the registration link below and don’t forget to add event to your calendar!\nhttps://www.eventbrite.com/e/fireside-chat-with-laura-knebusch-tickets-1648262119369 \nBRING A FRIEND OR PARTNER!\nEvent is open to non P&G-alumni. Feel free to bring a friend\, colleague\, or partner so they can also benefit from the session learning and networking. \nABOUT LAURA KNEBUSCH \nLaura is an experienced business leader and marketer with a proven track record of building brands and delivering results through agile leadership\, innovative strategies\, strong team development\, and passion for excellence. As Senior Vice President of Marketing and CX for Georgia-Pacific\, Laura is responsible for transforming consumer’s relationships with Georgia-Pacific brands like Angel Soft\, Dixie\, Quilted Northern and Brawny by leveraging the power of purpose\, data and technology. She has a team of experts in insights\, media\, creative\, design\, digital marketing\, shopper marketing\, MarTech\, analytics and innovation to achieve this vision. She has been with Georgia-Pacific since 2008 in leadership roles in the marketing function and as General Manager of the Paper Towel and Napkins category. Prior to Georgia-Pacific\, Laura was with Procter & Gamble working in the Personal Health Care division. \nLaura received her undergraduate degree in Business from Wake Forest University and her Masters in Business Administration from Duke University Fuqua School of Business. \nLinkedIn: https://www.linkedin.com/in/laura-knebusch-8887033 \nTwitter: @LKnebusch \nInstagram: Wardlaura1
URL:https://www.pgalums.com/event/atlanta-chapter-alumni-mixer/
LOCATION:Emory University’s Goizueta Business School\, 1300 Clifton Rd NE\, Atlanta\, GA\, United States
CATEGORIES:Atlanta,Global,Homepage
ATTACH;FMTTYPE=image/webp:https://www.pgalums.com/wp-content/uploads/2025/09/Untitled-scaled.webp
END:VEVENT
BEGIN:VEVENT
DTSTART;TZID=America/New_York:20240919T180000
DTEND;TZID=America/New_York:20240919T203000
DTSTAMP:20260423T060909
CREATED:20240819T191608Z
LAST-MODIFIED:20240819T193631Z
UID:46823-1726768800-1726777800@www.pgalums.com
SUMMARY:Atlanta Chapter: Firechat with Jim Dinkins
DESCRIPTION:We’d like to invite you to join us on Thursday September 19th starting 6pm at Emory University’s Goizueta Business School for a fireside chat with Jim Dinkins\, P&G Alumnus\, retired SVP of The Coca-Cola Company and CEO of The Honey Baked Ham Company\nJim will speak about his experience working at P&G\, and his long career tenure at two Fortune 500 companies with lessons learned along the way. \nLOCATION\nEmory University’s Goizueta Business School (Conference room W525)\, 1300 Clifton Rd NE\, Atlanta\, GA\, 30322 \nSCHEDULE\n6.00pm to 6.30pm: Registration\, Networking & Appetizers\n6.30pm to 7.30pm: Fireside Chat with Jim Dinkins\n7.30pm to 8.30pm: Networking\, Appetizers & Drinks \nCONTRIBUTION\n$20 \nRSVP REQUIRED\nSave your spot on Eventbrite at the registration link below and don’t forget to add event to your calendar!\nhttps://www.eventbrite.com/e/fireside-chat-with-jim-dinkins-tickets-997936784787 \nBRING A FRIEND OR PARTNER!\nEvent is open to non P&G-alumni. Feel free to bring a friend\, colleague\, or partner so they can also benefit from the session learning and networking. \nABOUT JIM DINKINS\nJames L. “Jim” Dinkins is the CEO of The Honey Baked Ham Company. Jim joined the company in March 2021. Founded in 1957\, The Honey Baked Ham Company\, LLC is a premium food retailer with over 440 locations nationwide\, as well as a direct-to-consumer business. Best known for its signature Honey Baked Ham with a sweet and crunchy glaze\, The Honey Baked Ham Company offers delicious\, fully-cooked Hams\, Turkey Breasts and other premium meats\, as well as heat-and-serve sides\, lunch\, catering and desserts.\nDinkins retired from The Coca-Cola Company in early 2021 as Senior Vice President and Senior Advisor. Prior to his retirement announcement in August 2020\, he served as President\, Coca-Cola North America (CCNA). Dinkins also served as President of the Minute Maid Business Unit and Chief Retail Sales Officer for CCNA among other roles.\nDinkins joined The Coca-Cola Company in 1988. He gained diverse experience working in a variety of areas\, including senior sales\, marketing\, operations\, channel planning\, sports marketing\, franchise leadership and general management.\nAs President of the Minute Maid Business Unit\, Dinkins led a team that produces\, sells\, markets and distributes leading brands in juices\, natural health beverages\, chilled tea and value-added dairy. This integrated team provided brands\, services and solutions to consumers and customers through a comprehensive set of go-to-market options.\nAs Chief Retail Sales Officer\, Dinkins led a team that manages strategic relationships with global and national customers across the grocery\, mass\, club\, drug\, value\, convenience and e-commerce channels in the United States. National Retail Sales had holistic customer management across all categories\, brands and routes to market.\nDinkins’ previous roles include Senior Vice President\, Sales in National Retail Sales for select grocery\, club and convenience retail customers and President\, 7-Eleven Global Customer Team. In his 7-Eleven position\, Dinkins led a team of associates across 16 countries that worked with 7- Eleven senior managers\, licensees and franchisees to develop strategic business plans and initiatives to drive growth.\nPrior to joining The Coca-Cola Company in 1988\, Dinkins held various sales positions with Procter & Gamble.\nDinkins serves on the board for Monster Beverage Corporation (NASDAQ: MNST) and for The University of Georgia Foundation.\nDinkins holds an MBA from Emory University and a Bachelor of Business Administration degree from the University of Georgia.\nDinkins has been married to his wife\, Lynn\, for 33 years. They have a daughter\, Dr. Kaitlyn Dinkins\, who lives in Birmingham\, Alabama.
URL:https://www.pgalums.com/event/atlanta-chapter-firechat-with-jim-dinkins/
LOCATION:Emory University’s Goizueta Business School\, 1300 Clifton Rd NE\, Atlanta\, GA\, United States
CATEGORIES:Atlanta,Global,Homepage
ATTACH;FMTTYPE=image/jpeg:https://www.pgalums.com/wp-content/uploads/2024/08/Untitled-2-scaled.jpg
END:VEVENT
END:VCALENDAR